BEGIN:VCALENDAR
VERSION:2.0
PRODID:-//eventon.com NONSGML v1.0//EN
CALSCALE:GREGORIAN
METHOD:PUBLISH
BEGIN:VEVENT
UID:69e637ce81382
DTSTAMP:20260420T142726Z
DTSTART:20250718T233000Z
DTEND:20250718T053000Z
LOCATION:La Paloma C/ Tigre 27
SUMMARY:TANGA! Party Barcelona - Especial Pride Fest
DESCRIPTION:Aquest Pride\,  TANGA PARTY es posa amb magnificència amb un f
 estival de dos dies per celebrar l&#8217;Orgull del 2025. I tu no pots falt
 ar! AMB ELS NOSTRES MILLORS DJS! A la Sala La Paloma.\nhttps://www.pridebar
 celona.org/events/tanga-party-barcelona-especial-pride-fest/
URL:https://www.pridebarcelona.org/events/tanga-party-barcelona-especial-pride-fest/
END:VEVENT
END:VCALENDAR