BEGIN:VCALENDAR
VERSION:2.0
PRODID:-//eventon.com NONSGML v1.0//EN
CALSCALE:GREGORIAN
METHOD:PUBLISH
BEGIN:VEVENT
UID:69e9f0b70407d
DTSTAMP:20260423T101311Z
DTSTART:20240717T190000Z
DTEND:20240717T191500Z
LOCATION:Escenari PRIDE - Plaça Universitat
SUMMARY:CURSA DE TALONS  👠
DESCRIPTION:⚠️ Inscripció prèvia: fins 15 minuts abans del inici de l
 a cursa a Plaça Universitat La tradicional Cursa de Talons serà l’esdev
 eniment que donarà el tret de sortida a la part més lúdica del Pride Bar
 celona 2024. Aquesta cursa\,  descrita per l’organització com &#8220;la 
 més esbojarrada&#8221; que existeix\,  ha esdevingut[..]\nhttps://www.prid
 ebarcelona.org/events/cursa-de-talons-%f0%9f%91%a0/
URL:https://www.pridebarcelona.org/events/cursa-de-talons-%f0%9f%91%a0/
END:VEVENT
END:VCALENDAR