BEGIN:VCALENDAR
VERSION:2.0
PRODID:-//eventon.com NONSGML v1.0//EN
CALSCALE:GREGORIAN
METHOD:PUBLISH
BEGIN:VEVENT
UID:69ea4cd5bf54a
DTSTAMP:20260423T164613Z
DTSTART:20240706T110000Z
DTEND:20240706T230000Z
LOCATION:Compte Borrell 22 Compte Borrell\,  22
SUMMARY:Vermut Trans
DESCRIPTION:El dissabte 6 de juliol a partir de les 11\, 00h i fins a las 2
 3\, 00h celebrem el Vermut Trans 7ena ediciÃ³\,  una festa solidÃ ria i rei
 vindicativa al carrer comte Borrell 22 davant el centre LGTBI de la ciutat.
  Cada any i des del 2016\,  celebrem a Barcelona elÂ  Vermut Trans\, Â unaÂ
  festa[..]\nhttps://www.pridebarcelona.org/events/vermut-trans/
URL:https://www.pridebarcelona.org/events/vermut-trans/
END:VEVENT
END:VCALENDAR