BEGIN:VCALENDAR
VERSION:2.0
PRODID:-//eventon.com NONSGML v1.0//EN
CALSCALE:GREGORIAN
METHOD:PUBLISH
BEGIN:VEVENT
UID:69e9f0bc5c6f0
DTSTAMP:20260423T101316Z
DTSTART:20240717T190000Z
DTEND:20240717T191500Z
LOCATION:Escenari PRIDE - Plaça Universitat
SUMMARY:CARRERA DE TACONES  👠
DESCRIPTION:⚠️ Inscripción previa: hasta 15 minutos antes del inicio d
 e la carrera en la propia Plaza Universidad. La tradicional Carrera de Taco
 nes será el evento que dé el pistoletazo de salida a la parte más lúdic
 a del Pride Barcelona 2024. Esta carrera\,  descrita por la organización c
 omo «la más alocada»[..]\nhttps://www.pridebarcelona.org/es/events/cursa
 -de-talons-%f0%9f%91%a0/
URL:https://www.pridebarcelona.org/es/events/cursa-de-talons-%f0%9f%91%a0/
END:VEVENT
END:VCALENDAR