BEGIN:VCALENDAR
VERSION:2.0
PRODID:-//eventon.com NONSGML v1.0//EN
CALSCALE:GREGORIAN
METHOD:PUBLISH
BEGIN:VEVENT
UID:69ed544d0d4b5
DTSTAMP:20260425T235453Z
DTSTART:20250718T003000Z
DTEND:20250718T060000Z
LOCATION:Arena xperience
SUMMARY:AIRE GIRLS - Lesbian Disco Party
DESCRIPTION:The best parties for lesbian women and friends in Barcelona you
  can&#8217;t miss Every Friday we have a party to dance and enjoy the best 
 atmosphere\,  with a session of the best Pop/Hits/Urban &amp; R&amp;B *****
 ***************** ðŸ“† Friday: Tickets â€”&#8212;&#8212;&#8212; *Online: â‚
 ¬12 with one drink + service fee â€”&#8212;&#8212;&#8212;&#8212;- *Box[..]\
 nhttps://www.pridebarcelona.org/en/events/aire-girls-lesbian-disco-party/
URL:https://www.pridebarcelona.org/en/events/aire-girls-lesbian-disco-party/
END:VEVENT
END:VCALENDAR