BEGIN:VCALENDAR
VERSION:2.0
PRODID:-//eventon.com NONSGML v1.0//EN
CALSCALE:GREGORIAN
METHOD:PUBLISH
BEGIN:VEVENT
UID:69e9f2f3f3516
DTSTAMP:20260423T102243Z
DTSTART:20240717T180000Z
DTEND:20240717T191500Z
LOCATION:Escenari PRIDE - Plaça Universitat
SUMMARY:CURSA DE TALONS  👠
DESCRIPTION:⚠️ Inscripció prèvia: 30 minuts abans del inici de la cur
 sa a Plaça Universitat ⚠️Consulta les bases de participaciò aqui\nhtt
 ps://www.pridebarcelona.org/en/events/cursa-de-talons-%f0%9f%91%a0/
URL:https://www.pridebarcelona.org/en/events/cursa-de-talons-%f0%9f%91%a0/
END:VEVENT
END:VCALENDAR